{
 "currentVersion": 10.21,
 "serviceDescription": "",
 "mapName": "Layers",
 "description": "",
 "copyrightText": "",
 "supportsDynamicLayers": false,
 "layers": [
  {
   "id": 0,
   "name": "GAREXIANPL",
   "parentLayerId": -1,
   "defaultVisibility": true,
   "subLayerIds": null,
   "minScale": 0,
   "maxScale": 0
  }
 ],
 "tables": [],
 "spatialReference": {
  "wkid": 4326,
  "latestWkid": 4326
 },
 "singleFusedMapCache": true,
 "tileInfo": {
  "rows": 256,
  "cols": 256,
  "dpi": 96,
  "format": "PNG24",
  "compressionQuality": 0,
  "origin": {
   "x": -180,
   "y": 90
  },
  "spatialReference": {
   "wkid": 4326,
   "latestWkid": 4326
  },
  "lods": [
   {
    "level": 0,
    "resolution": 0.0013732910240890493,
    "scale": 577143.74
   },
   {
    "level": 1,
    "resolution": 6.866455120445247E-4,
    "scale": 288571.87
   },
   {
    "level": 2,
    "resolution": 3.4332274412495725E-4,
    "scale": 144285.93
   },
   {
    "level": 3,
    "resolution": 1.7166138395978368E-4,
    "scale": 72142.97
   },
   {
    "level": 4,
    "resolution": 8.583068008258681E-5,
    "scale": 36071.48
   },
   {
    "level": 5,
    "resolution": 4.2915344237999825E-5,
    "scale": 18035.741763721453
   },
   {
    "level": 6,
    "resolution": 2.1457672119099913E-5,
    "scale": 9017.870881902752
   },
   {
    "level": 7,
    "resolution": 1.0728836059570267E-5,
    "scale": 4508.935440959912
   },
   {
    "level": 8,
    "resolution": 5.364418029785134E-6,
    "scale": 2254.4677204799564
   },
   {
    "level": 9,
    "resolution": 2.682209014892567E-6,
    "scale": 1127.2338602399782
   },
   {
    "level": 10,
    "resolution": 1.3411045074462745E-6,
    "scale": 563.6169301199852
   }
  ]
 },
 "initialExtent": {
  "xmin": 116.52397027770401,
  "ymin": 33.20810209566519,
  "xmax": 118.37519094023999,
  "ymax": 33.89100740433849,
  "spatialReference": {
   "cs": "gcs",
   "wkid": 4326
  }
 },
 "fullExtent": {
  "xmin": 116.72305516313853,
  "ymin": 32.71111694046891,
  "xmax": 118.07966302903407,
  "ymax": 33.50196471390319,
  "spatialReference": {
   "cs": "gcs",
   "wkid": 4326
  }
 },
 "minScale": 577143.74,
 "maxScale": 144285.93,
 "units": "esriDecimalDegrees",
 "supportedImageFormatTypes": "PNG32,PNG24,PNG,JPG,DIB,TIFF,EMF,PS,PDF,GIF,SVG,SVGZ,BMP",
 "documentInfo": {
  "Title": "",
  "Author": "",
  "Comments": "",
  "Subject": "",
  "Category": "",
  "AntialiasingMode": "None",
  "TextAntialiasingMode": "Force",
  "Keywords": ""
 },
 "capabilities": "Map,Query,Data",
 "supportedQueryFormats": "JSON, AMF",
 "exportTilesAllowed": false,
 "maxRecordCount": 1000,
 "maxImageHeight": 4096,
 "maxImageWidth": 4096,
 "supportedExtensions": "KmlServer"
}
