{
 "currentVersion": 10.21,
 "serviceDescription": "",
 "mapName": "Layers",
 "description": "",
 "copyrightText": "",
 "supportsDynamicLayers": false,
 "layers": [
  {
   "id": 0,
   "name": "地形",
   "parentLayerId": -1,
   "defaultVisibility": true,
   "subLayerIds": [
    1,
    2
   ],
   "minScale": 0,
   "maxScale": 0
  },
  {
   "id": 1,
   "name": "DEM_湾沚区(重采样5m)(CGCS2000120).img",
   "parentLayerId": 0,
   "defaultVisibility": true,
   "subLayerIds": null,
   "minScale": 0,
   "maxScale": 0
  },
  {
   "id": 2,
   "name": "山体阴影(2m)(CGCS2000120).img",
   "parentLayerId": 0,
   "defaultVisibility": true,
   "subLayerIds": null,
   "minScale": 0,
   "maxScale": 0
  }
 ],
 "tables": [],
 "spatialReference": {
  "wkid": 4490,
  "latestWkid": 4490
 },
 "singleFusedMapCache": true,
 "tileInfo": {
  "rows": 256,
  "cols": 256,
  "dpi": 96,
  "format": "Mixed",
  "compressionQuality": 75,
  "origin": {
   "x": -400,
   "y": 399.9999999999998
  },
  "spatialReference": {
   "wkid": 4490,
   "latestWkid": 4490
  },
  "lods": [
   {
    "level": 0,
    "resolution": 0.021972656250000003,
    "scale": 9234299.783085937
   },
   {
    "level": 1,
    "resolution": 0.010986328125000002,
    "scale": 4617149.891542968
   },
   {
    "level": 2,
    "resolution": 0.005493164062500001,
    "scale": 2308574.945771484
   },
   {
    "level": 3,
    "resolution": 0.0027465820312500004,
    "scale": 1154287.472885742
   },
   {
    "level": 4,
    "resolution": 0.0013732910240890498,
    "scale": 577143.74
   },
   {
    "level": 5,
    "resolution": 6.866455120445249E-4,
    "scale": 288571.87
   },
   {
    "level": 6,
    "resolution": 3.433227441249574E-4,
    "scale": 144285.93
   },
   {
    "level": 7,
    "resolution": 1.7166138395978374E-4,
    "scale": 72142.97
   },
   {
    "level": 8,
    "resolution": 8.583068008258684E-5,
    "scale": 36071.48
   },
   {
    "level": 9,
    "resolution": 4.291534423799984E-5,
    "scale": 18035.741763721453
   },
   {
    "level": 10,
    "resolution": 2.145767211909992E-5,
    "scale": 9017.870881902752
   },
   {
    "level": 11,
    "resolution": 1.072883605957027E-5,
    "scale": 4508.935440959912
   },
   {
    "level": 12,
    "resolution": 5.364418029785136E-6,
    "scale": 2254.4677204799564
   },
   {
    "level": 13,
    "resolution": 2.682209014892568E-6,
    "scale": 1127.2338602399782
   }
  ]
 },
 "initialExtent": {
  "xmin": 118.28667829597316,
  "ymin": 31.13365404602272,
  "xmax": 118.86526633914153,
  "ymax": 31.363965791361586,
  "spatialReference": {
   "cs": "gcs",
   "wkid": 4490
  }
 },
 "fullExtent": {
  "xmin": 118.41863836018057,
  "ymin": 30.93604467687857,
  "xmax": 118.73433573208442,
  "ymax": 31.318276068375255,
  "spatialReference": {
   "cs": "gcs",
   "wkid": 4490
  }
 },
 "minScale": 9234299.783085937,
 "maxScale": 2254.4677204799564,
 "units": "esriDecimalDegrees",
 "supportedImageFormatTypes": "PNG32,PNG24,PNG,JPG,DIB,TIFF,EMF,PS,PDF,GIF,SVG,SVGZ,BMP",
 "documentInfo": {
  "Title": "",
  "Author": "",
  "Comments": "",
  "Subject": "",
  "Category": "",
  "AntialiasingMode": "None",
  "TextAntialiasingMode": "Force",
  "Keywords": ""
 },
 "capabilities": "Map,Query,Data",
 "supportedQueryFormats": "JSON, AMF",
 "exportTilesAllowed": false,
 "maxRecordCount": 1000,
 "maxImageHeight": 4096,
 "maxImageWidth": 4096,
 "supportedExtensions": "KmlServer"
}
