{
 "currentVersion": 10.21,
 "serviceDescription": "",
 "mapName": "Layers",
 "description": "",
 "copyrightText": "",
 "supportsDynamicLayers": false,
 "layers": [
  {
   "id": 0,
   "name": "L1",
   "parentLayerId": -1,
   "defaultVisibility": true,
   "subLayerIds": [
    1,
    2,
    3
   ],
   "minScale": 0,
   "maxScale": 0
  },
  {
   "id": 1,
   "name": "青弋江、水阳江、漳河",
   "parentLayerId": 0,
   "defaultVisibility": true,
   "subLayerIds": null,
   "minScale": 0,
   "maxScale": 200001
  },
  {
   "id": 2,
   "name": "区政府",
   "parentLayerId": 0,
   "defaultVisibility": true,
   "subLayerIds": null,
   "minScale": 0,
   "maxScale": 0
  },
  {
   "id": 3,
   "name": "县界",
   "parentLayerId": 0,
   "defaultVisibility": true,
   "subLayerIds": null,
   "minScale": 0,
   "maxScale": 0
  },
  {
   "id": 4,
   "name": "L2(1:200,000)",
   "parentLayerId": -1,
   "defaultVisibility": true,
   "subLayerIds": [
    5,
    6,
    7
   ],
   "minScale": 0,
   "maxScale": 0
  },
  {
   "id": 5,
   "name": "铁路",
   "parentLayerId": 4,
   "defaultVisibility": true,
   "subLayerIds": null,
   "minScale": 200000,
   "maxScale": 0
  },
  {
   "id": 6,
   "name": "高速公路",
   "parentLayerId": 4,
   "defaultVisibility": true,
   "subLayerIds": null,
   "minScale": 200000,
   "maxScale": 0
  },
  {
   "id": 7,
   "name": "河流(外河)",
   "parentLayerId": 4,
   "defaultVisibility": true,
   "subLayerIds": null,
   "minScale": 200000,
   "maxScale": 0
  },
  {
   "id": 8,
   "name": "L3(1:150,000)",
   "parentLayerId": -1,
   "defaultVisibility": true,
   "subLayerIds": [
    9,
    10,
    11,
    12
   ],
   "minScale": 0,
   "maxScale": 0
  },
  {
   "id": 9,
   "name": "镇界",
   "parentLayerId": 8,
   "defaultVisibility": true,
   "subLayerIds": null,
   "minScale": 150000,
   "maxScale": 0
  },
  {
   "id": 10,
   "name": "乡(镇)政府",
   "parentLayerId": 8,
   "defaultVisibility": true,
   "subLayerIds": null,
   "minScale": 150000,
   "maxScale": 0
  },
  {
   "id": 11,
   "name": "国道、省道",
   "parentLayerId": 8,
   "defaultVisibility": true,
   "subLayerIds": null,
   "minScale": 150000,
   "maxScale": 100001
  },
  {
   "id": 12,
   "name": "河流(内河)",
   "parentLayerId": 8,
   "defaultVisibility": true,
   "subLayerIds": null,
   "minScale": 150000,
   "maxScale": 0
  },
  {
   "id": 13,
   "name": "L4(1:100,000)",
   "parentLayerId": -1,
   "defaultVisibility": true,
   "subLayerIds": [
    14,
    16,
    17,
    18,
    19,
    20,
    21,
    22,
    23,
    24,
    25
   ],
   "minScale": 0,
   "maxScale": 0
  },
  {
   "id": 14,
   "name": "B堤防Anno",
   "parentLayerId": 13,
   "defaultVisibility": true,
   "subLayerIds": [
    15
   ],
   "minScale": 100000,
   "maxScale": 50001
  },
  {
   "id": 15,
   "name": "Default",
   "parentLayerId": 14,
   "defaultVisibility": true,
   "subLayerIds": null,
   "minScale": 0,
   "maxScale": 0
  },
  {
   "id": 16,
   "name": "村驻地",
   "parentLayerId": 13,
   "defaultVisibility": true,
   "subLayerIds": null,
   "minScale": 100000,
   "maxScale": 0
  },
  {
   "id": 17,
   "name": "湾沚区水务局",
   "parentLayerId": 13,
   "defaultVisibility": true,
   "subLayerIds": null,
   "minScale": 100000,
   "maxScale": 0
  },
  {
   "id": 18,
   "name": "芜宣机场",
   "parentLayerId": 13,
   "defaultVisibility": true,
   "subLayerIds": null,
   "minScale": 100000,
   "maxScale": 0
  },
  {
   "id": 19,
   "name": "城市主干道",
   "parentLayerId": 13,
   "defaultVisibility": true,
   "subLayerIds": null,
   "minScale": 100000,
   "maxScale": 0
  },
  {
   "id": 20,
   "name": "国道、省道",
   "parentLayerId": 13,
   "defaultVisibility": true,
   "subLayerIds": null,
   "minScale": 100000,
   "maxScale": 0
  },
  {
   "id": 21,
   "name": "县道",
   "parentLayerId": 13,
   "defaultVisibility": true,
   "subLayerIds": null,
   "minScale": 100000,
   "maxScale": 0
  },
  {
   "id": 22,
   "name": "撇洪沟",
   "parentLayerId": 13,
   "defaultVisibility": true,
   "subLayerIds": null,
   "minScale": 100000,
   "maxScale": 0
  },
  {
   "id": 23,
   "name": "暗渠",
   "parentLayerId": 13,
   "defaultVisibility": true,
   "subLayerIds": null,
   "minScale": 100000,
   "maxScale": 0
  },
  {
   "id": 24,
   "name": "支河、干渠",
   "parentLayerId": 13,
   "defaultVisibility": true,
   "subLayerIds": null,
   "minScale": 100000,
   "maxScale": 0
  },
  {
   "id": 25,
   "name": "主要湖泊(八大湖)",
   "parentLayerId": 13,
   "defaultVisibility": true,
   "subLayerIds": null,
   "minScale": 100000,
   "maxScale": 0
  },
  {
   "id": 26,
   "name": "L5(1:50,000)",
   "parentLayerId": -1,
   "defaultVisibility": true,
   "subLayerIds": [
    27,
    28,
    29,
    30,
    31,
    32
   ],
   "minScale": 0,
   "maxScale": 0
  },
  {
   "id": 27,
   "name": "乡村道路",
   "parentLayerId": 26,
   "defaultVisibility": true,
   "subLayerIds": null,
   "minScale": 50000,
   "maxScale": 0
  },
  {
   "id": 28,
   "name": "城市次干道",
   "parentLayerId": 26,
   "defaultVisibility": true,
   "subLayerIds": null,
   "minScale": 50000,
   "maxScale": 0
  },
  {
   "id": 29,
   "name": "堤防",
   "parentLayerId": 26,
   "defaultVisibility": true,
   "subLayerIds": null,
   "minScale": 50000,
   "maxScale": 0
  },
  {
   "id": 30,
   "name": "村界",
   "parentLayerId": 26,
   "defaultVisibility": true,
   "subLayerIds": null,
   "minScale": 50000,
   "maxScale": 0
  },
  {
   "id": 31,
   "name": "次要湖泊",
   "parentLayerId": 26,
   "defaultVisibility": true,
   "subLayerIds": null,
   "minScale": 50000,
   "maxScale": 0
  },
  {
   "id": 32,
   "name": "支渠、灌溉渠",
   "parentLayerId": 26,
   "defaultVisibility": true,
   "subLayerIds": null,
   "minScale": 50000,
   "maxScale": 0
  },
  {
   "id": 33,
   "name": "L6(1:24,000)",
   "parentLayerId": -1,
   "defaultVisibility": true,
   "subLayerIds": [
    34
   ],
   "minScale": 0,
   "maxScale": 0
  },
  {
   "id": 34,
   "name": "自然村",
   "parentLayerId": 33,
   "defaultVisibility": true,
   "subLayerIds": null,
   "minScale": 24000,
   "maxScale": 0
  }
 ],
 "tables": [],
 "spatialReference": {
  "wkid": 4490,
  "latestWkid": 4490
 },
 "singleFusedMapCache": true,
 "tileInfo": {
  "rows": 256,
  "cols": 256,
  "dpi": 96,
  "format": "Mixed",
  "compressionQuality": 75,
  "origin": {
   "x": -400,
   "y": 399.9999999999998
  },
  "spatialReference": {
   "wkid": 4490,
   "latestWkid": 4490
  },
  "lods": [
   {
    "level": 0,
    "resolution": 0.021972656250000003,
    "scale": 9234299.783085937
   },
   {
    "level": 1,
    "resolution": 0.010986328125000002,
    "scale": 4617149.891542968
   },
   {
    "level": 2,
    "resolution": 0.005493164062500001,
    "scale": 2308574.945771484
   },
   {
    "level": 3,
    "resolution": 0.0027465820312500004,
    "scale": 1154287.472885742
   },
   {
    "level": 4,
    "resolution": 0.0013732910240890498,
    "scale": 577143.74
   },
   {
    "level": 5,
    "resolution": 6.866455120445249E-4,
    "scale": 288571.87
   },
   {
    "level": 6,
    "resolution": 3.433227441249574E-4,
    "scale": 144285.93
   },
   {
    "level": 7,
    "resolution": 1.7166138395978374E-4,
    "scale": 72142.97
   },
   {
    "level": 8,
    "resolution": 8.583068008258684E-5,
    "scale": 36071.48
   },
   {
    "level": 9,
    "resolution": 4.291534423799984E-5,
    "scale": 18035.741763721453
   },
   {
    "level": 10,
    "resolution": 2.145767211909992E-5,
    "scale": 9017.870881902752
   },
   {
    "level": 11,
    "resolution": 1.072883605957027E-5,
    "scale": 4508.935440959912
   },
   {
    "level": 12,
    "resolution": 5.364418029785136E-6,
    "scale": 2254.4677204799564
   },
   {
    "level": 13,
    "resolution": 2.682209014892568E-6,
    "scale": 1127.2338602399782
   }
  ]
 },
 "initialExtent": {
  "xmin": 118.05961768275915,
  "ymin": 31.24664965481765,
  "xmax": 118.91741337536098,
  "ymax": 31.58810230915429,
  "spatialReference": {
   "cs": "gcs",
   "wkid": 4490
  }
 },
 "fullExtent": {
  "xmin": 117.94261785700161,
  "ymin": 30.475892445649574,
  "xmax": 119.07517268289413,
  "ymax": 31.70641215016854,
  "spatialReference": {
   "cs": "gcs",
   "wkid": 4490
  }
 },
 "minScale": 9234299.783085937,
 "maxScale": 1127.2338602399782,
 "units": "esriDecimalDegrees",
 "supportedImageFormatTypes": "PNG32,PNG24,PNG,JPG,DIB,TIFF,EMF,PS,PDF,GIF,SVG,SVGZ,BMP",
 "documentInfo": {
  "Title": "123",
  "Author": "",
  "Comments": "",
  "Subject": "",
  "Category": "",
  "AntialiasingMode": "None",
  "TextAntialiasingMode": "Force",
  "Keywords": ""
 },
 "capabilities": "Map,Query,Data",
 "supportedQueryFormats": "JSON, AMF",
 "exportTilesAllowed": false,
 "maxRecordCount": 1000,
 "maxImageHeight": 4096,
 "maxImageWidth": 4096,
 "supportedExtensions": "KmlServer"
}
