{
 "currentVersion": 10.21,
 "serviceDescription": "",
 "mapName": "Layers",
 "description": "",
 "copyrightText": "",
 "supportsDynamicLayers": false,
 "layers": [
  {
   "id": 0,
   "name": "L19",
   "parentLayerId": -1,
   "defaultVisibility": true,
   "subLayerIds": [
    1,
    2,
    3,
    4,
    5,
    6,
    7,
    8,
    9,
    10,
    11,
    12
   ],
   "minScale": 0,
   "maxScale": 1500
  },
  {
   "id": 1,
   "name": "大范围影像19级_01-01.tif",
   "parentLayerId": 0,
   "defaultVisibility": true,
   "subLayerIds": null,
   "minScale": 0,
   "maxScale": 0
  },
  {
   "id": 2,
   "name": "大范围影像19级_01-02.tif",
   "parentLayerId": 0,
   "defaultVisibility": true,
   "subLayerIds": null,
   "minScale": 0,
   "maxScale": 0
  },
  {
   "id": 3,
   "name": "大范围影像19级_01-03.tif",
   "parentLayerId": 0,
   "defaultVisibility": true,
   "subLayerIds": null,
   "minScale": 0,
   "maxScale": 0
  },
  {
   "id": 4,
   "name": "大范围影像19级_01-04.tif",
   "parentLayerId": 0,
   "defaultVisibility": true,
   "subLayerIds": null,
   "minScale": 0,
   "maxScale": 0
  },
  {
   "id": 5,
   "name": "大范围影像19级_02-01.tif",
   "parentLayerId": 0,
   "defaultVisibility": true,
   "subLayerIds": null,
   "minScale": 0,
   "maxScale": 0
  },
  {
   "id": 6,
   "name": "大范围影像19级_02-02.tif",
   "parentLayerId": 0,
   "defaultVisibility": true,
   "subLayerIds": null,
   "minScale": 0,
   "maxScale": 0
  },
  {
   "id": 7,
   "name": "大范围影像19级_02-03.tif",
   "parentLayerId": 0,
   "defaultVisibility": true,
   "subLayerIds": null,
   "minScale": 0,
   "maxScale": 0
  },
  {
   "id": 8,
   "name": "大范围影像19级_02-04.tif",
   "parentLayerId": 0,
   "defaultVisibility": true,
   "subLayerIds": null,
   "minScale": 0,
   "maxScale": 0
  },
  {
   "id": 9,
   "name": "大范围影像19级_03-01.tif",
   "parentLayerId": 0,
   "defaultVisibility": true,
   "subLayerIds": null,
   "minScale": 0,
   "maxScale": 0
  },
  {
   "id": 10,
   "name": "大范围影像19级_03-02.tif",
   "parentLayerId": 0,
   "defaultVisibility": true,
   "subLayerIds": null,
   "minScale": 0,
   "maxScale": 0
  },
  {
   "id": 11,
   "name": "大范围影像19级_03-03.tif",
   "parentLayerId": 0,
   "defaultVisibility": true,
   "subLayerIds": null,
   "minScale": 0,
   "maxScale": 0
  },
  {
   "id": 12,
   "name": "大范围影像19级_03-04.tif",
   "parentLayerId": 0,
   "defaultVisibility": true,
   "subLayerIds": null,
   "minScale": 0,
   "maxScale": 0
  },
  {
   "id": 13,
   "name": "谷歌矩形范围20.tif",
   "parentLayerId": -1,
   "defaultVisibility": true,
   "subLayerIds": null,
   "minScale": 1500,
   "maxScale": 0
  }
 ],
 "tables": [],
 "spatialReference": {
  "wkid": 4490,
  "latestWkid": 4490
 },
 "singleFusedMapCache": true,
 "tileInfo": {
  "rows": 256,
  "cols": 256,
  "dpi": 96,
  "format": "Mixed",
  "compressionQuality": 75,
  "origin": {
   "x": -400,
   "y": 399.9999999999998
  },
  "spatialReference": {
   "wkid": 4490,
   "latestWkid": 4490
  },
  "lods": [
   {
    "level": 0,
    "resolution": 0.021972656250000003,
    "scale": 9234299.783085937
   },
   {
    "level": 1,
    "resolution": 0.010986328125000002,
    "scale": 4617149.891542968
   },
   {
    "level": 2,
    "resolution": 0.005493164062500001,
    "scale": 2308574.945771484
   },
   {
    "level": 3,
    "resolution": 0.0027465820312500004,
    "scale": 1154287.472885742
   },
   {
    "level": 4,
    "resolution": 0.0013732910240890498,
    "scale": 577143.74
   },
   {
    "level": 5,
    "resolution": 6.866455120445249E-4,
    "scale": 288571.87
   },
   {
    "level": 6,
    "resolution": 3.433227441249574E-4,
    "scale": 144285.93
   },
   {
    "level": 7,
    "resolution": 1.7166138395978374E-4,
    "scale": 72142.97
   },
   {
    "level": 8,
    "resolution": 8.583068008258684E-5,
    "scale": 36071.48
   },
   {
    "level": 9,
    "resolution": 4.291534423799984E-5,
    "scale": 18035.741763721453
   },
   {
    "level": 10,
    "resolution": 2.145767211909992E-5,
    "scale": 9017.870881902752
   },
   {
    "level": 11,
    "resolution": 1.072883605957027E-5,
    "scale": 4508.935440959912
   },
   {
    "level": 12,
    "resolution": 5.364418029785136E-6,
    "scale": 2254.4677204799564
   },
   {
    "level": 13,
    "resolution": 2.682209014892568E-6,
    "scale": 1127.2338602399782
   }
  ]
 },
 "initialExtent": {
  "xmin": 117.58712429742411,
  "ymin": 31.183890162816052,
  "xmax": 119.90115012559406,
  "ymax": 32.037521798657664,
  "spatialReference": {
   "cs": "gcs",
   "wkid": 4490
  }
 },
 "fullExtent": {
  "xmin": 117.88192749023438,
  "ymin": 30.515899658203125,
  "xmax": 119.13848876953125,
  "ymax": 31.732635498046875,
  "spatialReference": {
   "cs": "gcs",
   "wkid": 4490
  }
 },
 "minScale": 9234299.783085937,
 "maxScale": 1127.2338602399782,
 "units": "esriDecimalDegrees",
 "supportedImageFormatTypes": "PNG32,PNG24,PNG,JPG,DIB,TIFF,EMF,PS,PDF,GIF,SVG,SVGZ,BMP",
 "documentInfo": {
  "Title": "",
  "Author": "",
  "Comments": "",
  "Subject": "",
  "Category": "",
  "AntialiasingMode": "None",
  "TextAntialiasingMode": "Force",
  "Keywords": ""
 },
 "capabilities": "Map,Query,Data",
 "supportedQueryFormats": "JSON, AMF",
 "exportTilesAllowed": false,
 "maxRecordCount": 1000,
 "maxImageHeight": 4096,
 "maxImageWidth": 4096,
 "supportedExtensions": "KmlServer"
}
