View In:
ArcGIS JavaScript
ArcGIS.com Map
Google Earth
ArcMap
ArcGIS Explorer
View Footprint In:
ArcGIS.com Map
Service Description:
Map Name: Layers
Legend
All Layers and Tables
Layers:
Description:
Copyright Text:
Spatial Reference:
4326
(4326)
Single Fused Map Cache: true
Tile Info:
- Height: 256
- Width: 256
- DPI: 96
-
Levels of Detail: 11
-
Level ID: 5
[ Start Tile, End Tile ]
- Resolution: 4.2915344237999825E-5
- Scale: 18035.741763721453
-
Level ID: 6
[ Start Tile, End Tile ]
- Resolution: 2.1457672119099913E-5
- Scale: 9017.870881902752
-
Level ID: 7
[ Start Tile, End Tile ]
- Resolution: 1.0728836059570267E-5
- Scale: 4508.935440959912
-
Level ID: 8
[ Start Tile, End Tile ]
- Resolution: 5.364418029785134E-6
- Scale: 2254.4677204799564
-
Level ID: 9
[ Start Tile, End Tile ]
- Resolution: 2.682209014892567E-6
- Scale: 1127.2338602399782
-
Level ID: 10
[ Start Tile, End Tile ]
- Resolution: 1.3411045074462745E-6
- Scale: 563.6169301199852
- Format: PNG24
- Compression Quality: 0.0
- Origin: X: -180.0
Y: 90.0
- Spatial Reference: 4326
(4326)
Initial Extent:
XMin: 116.52397027770401
YMin: 33.20810209566519
XMax: 118.37519094023999
YMax: 33.89100740433849
Spatial Reference: 4326
Full Extent:
XMin: 116.72305516313853
YMin: 32.71111694046891
XMax: 118.07966302903407
YMax: 33.50196471390319
Spatial Reference: 4326
Units: esriDecimalDegrees
Supported Image Format Types: PNG32,PNG24,PNG,JPG,DIB,TIFF,EMF,PS,PDF,GIF,SVG,SVGZ,BMP
Document Info:
Title:
Author:
Comments:
Subject:
Category:
Keywords:
AntialiasingMode: None
TextAntialiasingMode: Force
Supports Dynamic Layers: false
MaxRecordCount: 1000
MaxImageHeight: 4096
MaxImageWidth: 4096
Supported Query Formats: JSON, AMF
Min Scale: 577143.74
Max Scale: 563.6169301199852
Child Resources:
Info
Supported Operations:
Export Map
Identify
Find
Return Updates
Generate KML