View In:
ArcGIS JavaScript
ArcGIS.com Map
Google Earth
ArcMap
ArcGIS Explorer
View Footprint In:
ArcGIS.com Map
Service Description:
Map Name: Layers
Legend
All Layers and Tables
Layers:
Description:
Copyright Text:
Spatial Reference:
4490
(4490)
Single Fused Map Cache: true
Tile Info:
- Height: 256
- Width: 256
- DPI: 96
-
Levels of Detail: 14
-
Level ID: 0
[ Start Tile, End Tile ]
- Resolution: 0.021972656250000003
- Scale: 9234299.783085937
-
Level ID: 1
[ Start Tile, End Tile ]
- Resolution: 0.010986328125000002
- Scale: 4617149.891542968
-
Level ID: 2
[ Start Tile, End Tile ]
- Resolution: 0.005493164062500001
- Scale: 2308574.945771484
-
Level ID: 3
[ Start Tile, End Tile ]
- Resolution: 0.0027465820312500004
- Scale: 1154287.472885742
-
Level ID: 9
[ Start Tile, End Tile ]
- Resolution: 4.291534423799984E-5
- Scale: 18035.741763721453
-
Level ID: 10
[ Start Tile, End Tile ]
- Resolution: 2.145767211909992E-5
- Scale: 9017.870881902752
-
Level ID: 11
[ Start Tile, End Tile ]
- Resolution: 1.072883605957027E-5
- Scale: 4508.935440959912
-
Level ID: 12
[ Start Tile, End Tile ]
- Resolution: 5.364418029785136E-6
- Scale: 2254.4677204799564
-
Level ID: 13
[ Start Tile, End Tile ]
- Resolution: 2.682209014892568E-6
- Scale: 1127.2338602399782
- Format: Mixed
- Compression Quality: 75.0
- Origin: X: -400.0
Y: 399.9999999999998
- Spatial Reference: 4490
(4490)
Initial Extent:
XMin: 118.28667829597316
YMin: 31.13365404602272
XMax: 118.86526633914153
YMax: 31.363965791361586
Spatial Reference: 4490
Full Extent:
XMin: 118.41863836018057
YMin: 30.93604467687857
XMax: 118.73433573208442
YMax: 31.318276068375255
Spatial Reference: 4490
Units: esriDecimalDegrees
Supported Image Format Types: PNG32,PNG24,PNG,JPG,DIB,TIFF,EMF,PS,PDF,GIF,SVG,SVGZ,BMP
Document Info:
Title:
Author:
Comments:
Subject:
Category:
Keywords:
AntialiasingMode: None
TextAntialiasingMode: Force
Supports Dynamic Layers: false
MaxRecordCount: 1000
MaxImageHeight: 4096
MaxImageWidth: 4096
Supported Query Formats: JSON, AMF
Min Scale: 9234299.783085937
Max Scale: 2254.4677204799564
Child Resources:
Info
Supported Operations:
Export Map
Identify
Find
Return Updates
Generate KML